BEGIN:VCALENDAR
VERSION:2.0
PRODID:-//Snake River Alliance - ECPv6.15.20//NONSGML v1.0//EN
CALSCALE:GREGORIAN
METHOD:PUBLISH
X-WR-CALNAME:Snake River Alliance
X-ORIGINAL-URL:https://snakeriveralliance.org
X-WR-CALDESC:Events for Snake River Alliance
REFRESH-INTERVAL;VALUE=DURATION:PT1H
X-Robots-Tag:noindex
X-PUBLISHED-TTL:PT1H
BEGIN:VTIMEZONE
TZID:America/Boise
BEGIN:DAYLIGHT
TZOFFSETFROM:-0700
TZOFFSETTO:-0600
TZNAME:MDT
DTSTART:20230312T090000
END:DAYLIGHT
BEGIN:STANDARD
TZOFFSETFROM:-0600
TZOFFSETTO:-0700
TZNAME:MST
DTSTART:20231105T080000
END:STANDARD
BEGIN:DAYLIGHT
TZOFFSETFROM:-0700
TZOFFSETTO:-0600
TZNAME:MDT
DTSTART:20240310T090000
END:DAYLIGHT
BEGIN:STANDARD
TZOFFSETFROM:-0600
TZOFFSETTO:-0700
TZNAME:MST
DTSTART:20241103T080000
END:STANDARD
BEGIN:DAYLIGHT
TZOFFSETFROM:-0700
TZOFFSETTO:-0600
TZNAME:MDT
DTSTART:20250309T090000
END:DAYLIGHT
BEGIN:STANDARD
TZOFFSETFROM:-0600
TZOFFSETTO:-0700
TZNAME:MST
DTSTART:20251102T080000
END:STANDARD
END:VTIMEZONE
BEGIN:VEVENT
DTSTART;VALUE=DATE:20240812
DTEND;VALUE=DATE:20240813
DTSTAMP:20260421T120053
CREATED:20240621T230745Z
LAST-MODIFIED:20240621T231004Z
UID:10000072-1723420800-1723507199@snakeriveralliance.org
SUMMARY:NRC Seeking Public Comment on Environmental Review of TerraPower Construction Permit Application
DESCRIPTION:Nuclear Regulatory Commission – News Release \nNo: 24-045 June 12\, 2024 \nCONTACT: Scott Burnell\, 301-415-8200 \nThe Nuclear Regulatory Commission is seeking public input on the environmental review process for the construction permit application from TerraPower\, which seeks permission to build the company’s Natrium nuclear power plant near Kemmerer\, Wyoming. \nNRC staff members will be in Kemmerer July 16 to describe the environmental review process and gather comments on the issues that should be addressed in the review. Details for the day’s agenda are being finalized and will be available by June 25 on the TerraPower application page and the NRC’s Public Meeting Schedule. \nTerraPower\, through its subsidiary US SFR Owner\, filed the application in March\, requesting a permit to build the sodium-cooled\, advanced reactor design on a site near an existing coal-fired power plant. The 345-megawatt electric Natrium plant includes an energy storage system to temporarily boost output up to 500 MWe\, when needed. If the NRC ultimately issues the permit\, TerraPower would need to submit a separate operating license application. \nThe NRC offers several methods for filing comments on the environmental review before the Aug. 12 deadline\, as outlined in a Federal Register notice. Comments can also be submitted via regulations.gov under Docket ID NRC-2024-0078\, via email to TerraPowerEnvironmental@nrc.gov or via mail to Office of Administration\, Mail Stop TWFN-7-A60M\, U.S. Nuclear Regulatory Commission\, Washington\, DC 20555-0001. \nA copy of the TerraPower construction permit application\, including the environmental report\, is available at the Lincoln County Library\, 519 Emerald St. in Kemmerer. \n### \nThe Snake River Alliance will work with our allies analyzing the Environmental Review and provide key points for you to use in your comments at a later time.
URL:https://snakeriveralliance.org/event/nrc-seeking-comment-on-terrapower-construction/
LOCATION:ID
CATEGORIES:Public Comment
END:VEVENT
BEGIN:VEVENT
DTSTART;TZID=America/Boise:20240817T100000
DTEND;TZID=America/Boise:20240817T120000
DTSTAMP:20260421T120053
CREATED:20240621T225257Z
LAST-MODIFIED:20240802T231152Z
UID:10000071-1723888800-1723896000@snakeriveralliance.org
SUMMARY:Solar for ALL Rally
DESCRIPTION:Save the date Aug 17\, 2024! \nRally to advocate for affordable and accessible rooftop and community solar power in Idaho!  More details coming soon…RSVP ICI to stay in the loop. \nThis is an event for coalition building and to raise public awareness in relation to Idaho Power and the Idaho Public Utilities Commission change to solar producers attached to the Idaho Power Grid.  Also to raise awareness about the huge potential for equitable Community Solar in Idaho! \n			\n			\n				\n				\n				\n				\n			\n				\n				\n				\n				\n				\n				\n				\n				\n				\n				\n				The Treasure Valley is great for solar power and we plan to push for more equitable rates for rooftop solar producers and to advocate for community empowered energy democracy. \nWe’ll meet at Boise City Hall and then march to the Capitol for more events\, including live music and street theater. We are welcoming volunteers to help with ideas\, so please do not hesitate to let us know if you are interested in helping to contribute to the event.  \nSolar Power for ALL of Idaho!!! \nShare on Facebook!
URL:https://snakeriveralliance.org/event/solar-for-all-rally/
LOCATION:Idaho State Capitol Building\, 700 West Jefferson Street\, Boise\, ID\, 83702\, United States
CATEGORIES:Community Event
ORGANIZER;CN="Snake River Alliance":MAILTO:lford@snakeriveralliance.org
END:VEVENT
END:VCALENDAR