BEGIN:VCALENDAR
VERSION:2.0
PRODID:-//Snake River Alliance - ECPv6.15.20//NONSGML v1.0//EN
CALSCALE:GREGORIAN
METHOD:PUBLISH
X-WR-CALNAME:Snake River Alliance
X-ORIGINAL-URL:https://snakeriveralliance.org
X-WR-CALDESC:Events for Snake River Alliance
REFRESH-INTERVAL;VALUE=DURATION:PT1H
X-Robots-Tag:noindex
X-PUBLISHED-TTL:PT1H
BEGIN:VTIMEZONE
TZID:America/Boise
BEGIN:DAYLIGHT
TZOFFSETFROM:-0700
TZOFFSETTO:-0600
TZNAME:MDT
DTSTART:20220313T090000
END:DAYLIGHT
BEGIN:STANDARD
TZOFFSETFROM:-0600
TZOFFSETTO:-0700
TZNAME:MST
DTSTART:20221106T080000
END:STANDARD
BEGIN:DAYLIGHT
TZOFFSETFROM:-0700
TZOFFSETTO:-0600
TZNAME:MDT
DTSTART:20230312T090000
END:DAYLIGHT
BEGIN:STANDARD
TZOFFSETFROM:-0600
TZOFFSETTO:-0700
TZNAME:MST
DTSTART:20231105T080000
END:STANDARD
BEGIN:DAYLIGHT
TZOFFSETFROM:-0700
TZOFFSETTO:-0600
TZNAME:MDT
DTSTART:20240310T090000
END:DAYLIGHT
BEGIN:STANDARD
TZOFFSETFROM:-0600
TZOFFSETTO:-0700
TZNAME:MST
DTSTART:20241103T080000
END:STANDARD
END:VTIMEZONE
BEGIN:VEVENT
DTSTART;TZID=America/Boise:20230209T183000
DTEND;TZID=America/Boise:20230209T194500
DTSTAMP:20260423T063056
CREATED:20230125T204944Z
LAST-MODIFIED:20230209T004632Z
UID:10000041-1675967400-1675971900@snakeriveralliance.org
SUMMARY:Nuclear Fuel Chain Part II: Uranium Enrichment\, Fuel Fabrication\, and Reprocessing
DESCRIPTION:The Nuclear Fuel Chain Lecture Series explores and analyzes the entire fuel chain\, from uranium mining to radioactive waste storage. Join us in February for Part Two of the series\, Uranium Enrichment\, Nuclear Fuel Fabrication\, and Reprocessing. Register HERE or below for your unique link.  \nPat Marida \nWe are honored to have with us two experts on the topic\, Pat Marida and Terry Lodge. \nPat Marida\nPat has been an antinuclear activist since the 1980s\, when she was a volunteer staff person and Board Member of the Ohio Nuclear Weapons Freeze Campaign.  For 25 years she held various volunteer positions in the Sierra Club\, including serving on the Executive Committee of the Ohio Sierra Club and chairing the Central Ohio Sierra Club for 9 years.  She helped found the Ohio Sierra Club Nuclear Free Committee in 2010 and served as its chair through 2020.  She is currently a coordinator with the Ohio Nuclear Free Network\, having helped start that organization two years ago.  She is a retired pharmacist living in Columbus\, Ohio. \nTerry Lodge \nTerry Lodge \nTerry is a longtime environmental and civil rights lawyer in Toledo\, Ohio who in a career of 43+ years has represented grassroots activists and protesters opposing nuclear power and nuclear weapons\, mountaintop removal\, fracking and its radioactive waste\, war and discrimination in employment. He values the free speech\, association and protest rights of activists above every other constitutional right and worries about the privatized censorship of dissent on corporate social media as well as the “money equals megaphone” problem amplified by the Citizens’ United court decision. \nTerry currently represents scores of activists formally opposing the construction of two “interim” irradiated nuclear fuel dumps\, one in Texas and one in New Mexico\, and is pressing a lawsuit over the nuclear weapons implications of manufacturing high assay low-enriched uranium (HALEU) at a Department of Energy plant site in southeastern Ohio. He’s also assisting a small but tough group of activists in Erwin\, Tennessee who’re outing a local factory’s public health-threatening radiation leaks and nuclear weapons connections in an NRC license amendment case. \nPlease register ahead of time and come with your questions or submit them to communications@snakeriveralliance.org\, subject line : ASK. \n Read more from the Ohio Nuclear Free Network\n Uranium: Enrichment\, Nuclear Fuel Fabrication\, and More \n How Nuclear Power Worsens Climate Change \nLearn more about the nuclear legacy of the Portsmouth Nuclear site in Ohio. \n Read about Ohio\, Centrus and the Nuclear Bomb. \n Portsmouth to Convert Depleted Uranium for Warfare \n Health Risk to Local Residents from the Portsmouth Gaseous Diffusion Plant. \n Uranium: Mining and Milling
URL:https://snakeriveralliance.org/event/nuclear-fuel-chain-part-ii/
CATEGORIES:Virtual Event
ORGANIZER;CN="Snake River Alliance":MAILTO:lford@snakeriveralliance.org
END:VEVENT
END:VCALENDAR